BEGIN:VCALENDAR
VERSION:2.0
CALSCALE:GREGORIAN
PRODID:adamgibbons/ics
METHOD:PUBLISH
X-PUBLISHED-TTL:PT1H
BEGIN:VEVENT
UID:471@calendar.pex.coop
SUMMARY:Loops & Knots
DTSTAMP:20260421T113221Z
DTSTART:20260502T180000Z
DTEND:20260502T200000Z
URL:https://calendar.pex.coop/event/loops-and-knots-13
GEO:47.5686326;-122.6536444
LOCATION:PEX - 639 N Callow Ave\, Bremerton\, WA. 98312
STATUS:CONFIRMED
CATEGORIES:masks required,meetup
END:VEVENT
END:VCALENDAR
